BEGIN:VCALENDAR
VERSION:2.0
PRODID:-//Rabbit Run Community Arts Association - ECPv6.15.11//NONSGML v1.0//EN
CALSCALE:GREGORIAN
METHOD:PUBLISH
X-ORIGINAL-URL:https://rabbitrun.org
X-WR-CALDESC:Events for Rabbit Run Community Arts Association
REFRESH-INTERVAL;VALUE=DURATION:PT1H
X-Robots-Tag:noindex
X-PUBLISHED-TTL:PT1H
BEGIN:VTIMEZONE
TZID:America/New_York
BEGIN:DAYLIGHT
TZOFFSETFROM:-0500
TZOFFSETTO:-0400
TZNAME:EDT
DTSTART:20230312T070000
END:DAYLIGHT
BEGIN:STANDARD
TZOFFSETFROM:-0400
TZOFFSETTO:-0500
TZNAME:EST
DTSTART:20231105T060000
END:STANDARD
BEGIN:DAYLIGHT
TZOFFSETFROM:-0500
TZOFFSETTO:-0400
TZNAME:EDT
DTSTART:20240310T070000
END:DAYLIGHT
BEGIN:STANDARD
TZOFFSETFROM:-0400
TZOFFSETTO:-0500
TZNAME:EST
DTSTART:20241103T060000
END:STANDARD
BEGIN:DAYLIGHT
TZOFFSETFROM:-0500
TZOFFSETTO:-0400
TZNAME:EDT
DTSTART:20250309T070000
END:DAYLIGHT
BEGIN:STANDARD
TZOFFSETFROM:-0400
TZOFFSETTO:-0500
TZNAME:EST
DTSTART:20251102T060000
END:STANDARD
END:VTIMEZONE
BEGIN:VEVENT
DTSTART;TZID=America/New_York:20240913T173000
DTEND;TZID=America/New_York:20241012T200000
DTSTAMP:20260420T111951
CREATED:20250904T160008Z
LAST-MODIFIED:20250904T155917Z
UID:5887-1726248600-1728763200@rabbitrun.org
SUMMARY:2025 Bunny Awards
DESCRIPTION:Rabbit Run Theater’s\nAnnual Bunny Awards\n\n\nEach year our season ticket holders vote for their favorite actors and performances with the results announced at this end of the season.\n\nVolunteers and theater staff are also recognized for all their tireless efforts to make each show happen.\n\n\n\n\nWinners of the 2025  Bunny Awards\n\nBest Actor in a Featured Role –  Nick Grimsic for his roles as John in Wait Until Dark\nBest Actress in a Featured Role – Katie Van Niel for her role as Young Anastasia in Anastasia\, the Musical\nBest Actor in a Supporting Role – Ian Ward for his role as Tobias in Sweeney Todd\, the Demon Barber of Fleet Street \nBest Actress in a Supporting Role – Cheryl Berresford for her role as Cora in The Calendar Girls\nBest Actor in a Main Role – J J Luster for his role as Sweeney Todd in Sweeney Todd\, the Demon Barber of Fleet Street \nBest Actress in a Main Role – Emily Stack for her role as Mrs. Lovett in Sweeney Todd\, the Demon Barber of Fleet Street\n\n\n\n\nBEST OF SHOW – Anastasia\, the Musical\n\n\n\n\n\nDirector’s Choice Bunny Awards\n\nWait Until Dark director Ann Hedger presented a Director’s Choice Award to Dawn Hill and Emma Kovach-Uzl\n\nAnastasia\, the Musical director Brint Learned presented a Director’s Choice Award to Ryan Peterson\n\nCalendar Girls director Ann Hedger presented a Director’s Choice Award to Robin Baum\, Evelyn Messmore\, Michael Scott\n\nSweeney Todd director Brint Learned presented a Director’s Choice Award to Jonathan Gordon and Heather Felden\n\nThe Stinky Cheese Man  (Youth Production) director Molly Lorek presented a Director’s Choice Award to Aidan Lynch Lily Markovich and Rose Van Niel\n\n\nVolunteers of the Year\nSandy and Bob DeMell\nMary Ann & Dan Chambers\n\n\n\n\nCONGRATULATIONS EVERYONE!\n\n\n\n\n\n2025 Photos (courtesy of Kathy Sandham)\n\n\nJonathan Gordon presents Best Actor in a Supporting Role to Ian Ward\n\n\nEmcee Dan Nichols\n\n\n\nBest Featured Actress\, Katie Van Niel\n\n\nJ J Luster\, Best Actor Award\n\n\nStephen Sandham presents Cheryl Berresford with Best Actress in a Supporting Role\n\n\nIan Ward presents Best Female Actor Award to Emily Stack\n\n  \nCast of “Anastasia\, the Musical” receive Best Show Award
URL:https://rabbitrun.org/events/2025-bunny-awards/
CATEGORIES:Productions
ATTACH;FMTTYPE=image/jpeg:https://rabbitrun.org/wp-content/uploads/2025/09/Bunny-Awards-2025-2.jpg
END:VEVENT
END:VCALENDAR