BEGIN:VCALENDAR
VERSION:2.0
PRODID:-//Rabbit Run Community Arts Association - ECPv6.15.11//NONSGML v1.0//EN
CALSCALE:GREGORIAN
METHOD:PUBLISH
X-WR-CALNAME:Rabbit Run Community Arts Association
X-ORIGINAL-URL:https://rabbitrun.org
X-WR-CALDESC:Events for Rabbit Run Community Arts Association
REFRESH-INTERVAL;VALUE=DURATION:PT1H
X-Robots-Tag:noindex
X-PUBLISHED-TTL:PT1H
BEGIN:VTIMEZONE
TZID:America/New_York
BEGIN:DAYLIGHT
TZOFFSETFROM:-0500
TZOFFSETTO:-0400
TZNAME:EDT
DTSTART:20230312T070000
END:DAYLIGHT
BEGIN:STANDARD
TZOFFSETFROM:-0400
TZOFFSETTO:-0500
TZNAME:EST
DTSTART:20231105T060000
END:STANDARD
BEGIN:DAYLIGHT
TZOFFSETFROM:-0500
TZOFFSETTO:-0400
TZNAME:EDT
DTSTART:20240310T070000
END:DAYLIGHT
BEGIN:STANDARD
TZOFFSETFROM:-0400
TZOFFSETTO:-0500
TZNAME:EST
DTSTART:20241103T060000
END:STANDARD
BEGIN:DAYLIGHT
TZOFFSETFROM:-0500
TZOFFSETTO:-0400
TZNAME:EDT
DTSTART:20250309T070000
END:DAYLIGHT
BEGIN:STANDARD
TZOFFSETFROM:-0400
TZOFFSETTO:-0500
TZNAME:EST
DTSTART:20251102T060000
END:STANDARD
END:VTIMEZONE
BEGIN:VEVENT
DTSTART;TZID=America/New_York:20240705T193000
DTEND;TZID=America/New_York:20240720T193000
DTSTAMP:20260420T152527
CREATED:20220915T162036Z
LAST-MODIFIED:20240501T144441Z
UID:6004-1720207800-1721503800@rabbitrun.org
SUMMARY:The Music Man
DESCRIPTION:By turns wicked\, funny\, warm\, romantic and touching\, The Music Man is family entertainment at its best. Meredith Willson’s six-time\, Tony Award-winning musical comedy has been entertaining audiences since 1957 and is a family-friendly story to be shared with every generation. \nThe Music Man follows fast-talking traveling salesman\, Harold Hill\, as he cons the people of River City\, Iowa\, into buying instruments and uniforms for a boys’ band that he vows to organize – this\, despite the fact that he doesn’t know a trombone from a treble clef. His plans to skip town with the cash are foiled when he falls for Marian\, the librarian\, who transforms him into a respectable citizen by curtain’s fall. \nGenre:  Musical\nRating:  General audience \nShow dates:  July 5\, 6\, 7\, 11\, 12\, 13\, 14\, 17\, 18\, 19\, 20 \nBook\, Music and Lyrics by Meredith Willson. Based on a story by Meredith Willson and Franklin Lacey \nThe Music Man is presented through special arrangement with Music Theatre International (MTI)>  All authorized performance materials are also supplied by MTI.  www.mtishows.com \nRabbit Run Theater is located at 5648 W. Chapel Rd.\, Madison\, OH  44057 \nEvening performances begin at 7:30 p.m. \nTo order season tickets call RRCAA at 440-428-5913. \nSingle tickets are available for purchase May 1\, 2024. \nTo purchase single tickets click here:  https://rabbitrun.easy-ware-ticketing.com/events \n\n\n\n\n\n\nThe box office opens May 15\, 2024\nBox office hours:  Wed. – Sun.\, 3:00 – 7:00 p.m.\nBox office is closed the following days:  May 19\, June 9\, June 30\, July 27 and 28\nBox office number:  440-428-7092
URL:https://rabbitrun.org/events/the-music-man/
CATEGORIES:Productions
ATTACH;FMTTYPE=image/jpeg:https://rabbitrun.org/wp-content/uploads/2023/11/New-Music-Man.jpg
END:VEVENT
END:VCALENDAR