BEGIN:VCALENDAR
VERSION:2.0
PRODID:-//Rabbit Run Community Arts Association - ECPv6.15.11//NONSGML v1.0//EN
CALSCALE:GREGORIAN
METHOD:PUBLISH
X-WR-CALNAME:Rabbit Run Community Arts Association
X-ORIGINAL-URL:https://rabbitrun.org
X-WR-CALDESC:Events for Rabbit Run Community Arts Association
REFRESH-INTERVAL;VALUE=DURATION:PT1H
X-Robots-Tag:noindex
X-PUBLISHED-TTL:PT1H
BEGIN:VTIMEZONE
TZID:America/New_York
BEGIN:DAYLIGHT
TZOFFSETFROM:-0500
TZOFFSETTO:-0400
TZNAME:EDT
DTSTART:20230312T070000
END:DAYLIGHT
BEGIN:STANDARD
TZOFFSETFROM:-0400
TZOFFSETTO:-0500
TZNAME:EST
DTSTART:20231105T060000
END:STANDARD
BEGIN:DAYLIGHT
TZOFFSETFROM:-0500
TZOFFSETTO:-0400
TZNAME:EDT
DTSTART:20240310T070000
END:DAYLIGHT
BEGIN:STANDARD
TZOFFSETFROM:-0400
TZOFFSETTO:-0500
TZNAME:EST
DTSTART:20241103T060000
END:STANDARD
BEGIN:DAYLIGHT
TZOFFSETFROM:-0500
TZOFFSETTO:-0400
TZNAME:EDT
DTSTART:20250309T070000
END:DAYLIGHT
BEGIN:STANDARD
TZOFFSETFROM:-0400
TZOFFSETTO:-0500
TZNAME:EST
DTSTART:20251102T060000
END:STANDARD
END:VTIMEZONE
BEGIN:VEVENT
DTSTART;TZID=America/New_York:20240524T193000
DTEND;TZID=America/New_York:20240608T220000
DTSTAMP:20260420T170647
CREATED:20220915T161847Z
LAST-MODIFIED:20240501T195216Z
UID:5997-1716579000-1717884000@rabbitrun.org
SUMMARY:Spamalot
DESCRIPTION:Lovingly ripped off from the classic film comedy Monty Python and the Holy Grail\, MONTY PYTHON’S SPAMALOT retells the legend of King Arthur and his Knights of the Round Table\, and features a bevy of beautiful show girls\, not to mention cows\, killer rabbits\, and French people. Did we mention the bevy of beautiful showgirls? \nThe 2005 Broadway production won three Tony® Awards\, including Best Musical\, and was followed by two successful West End runs. The outrageous\, uproarious\, and gloriously entertaining story of King Arthur and the Lady of the Lake will delight audiences as they search for the Holy Grail and “always look on the bright side of life.” \nGenre:  Comedic musical\nRating:  13+\, content \nShow dates:  May 24\, 25\, 26\, 30\, 31\, June 1\, 2\, 5\, 6\, 7\, 8\, 2024 \nBook & Lyrics by ERIC IDLE. Music by JOHN DU PREZ & ERIC IDLE \nFrom the original screenplay by Graham Chapman\, John Cleese\, Terry Gilliam\, Eric Idle\, Terry Jones\, Michael Palin \nOriginal Broadway Production produced by Boyett Ostar Productions\,The Shubert Organization\, Arielle Tepper Madover\, Stephanie McClelland/Lawrence Horowitz\, Elan V McAllister/Allan S. Gordon\, Independent Presenters Network\, Roy Furman\, GRS Associates\, Jam Theatrical TGA Entertainment\, and Clear Channel Entertainment \nRabbit Run Theater is located at 5648 W. Chapel Rd.\, Madison\, OH  44057 \nEvening performances begin at 7:30 p.m. \nTo order season tickets call RRCAA at 440-428-5913. \nSingle tickets available online May 1\, 2024. \nTo purchase single tickets click here:  https://rabbitrun.easy-ware-ticketing.com/events \n\n\n\n\n\n\nThe box office opens May 15\, 2024\nBox office hours:  Wed. – Sun.\, 3:00 – 7:00 p.m.\nBox office is closed the following days:  May 19\, June 9\, June 30\, July 27 and 28\nBox office number:  440-428-7092 \n\n\n\n\n\n\n\n\n\n\n\n\n\n\n\n\n\n\n\n  \n  \n  \n  \n 
URL:https://rabbitrun.org/events/spamalot/
CATEGORIES:Productions
ATTACH;FMTTYPE=image/jpeg:https://rabbitrun.org/wp-content/uploads/2024/05/Spamalot-color.jpg
END:VEVENT
BEGIN:VEVENT
DTSTART;TZID=America/New_York:20240614T193000
DTEND;TZID=America/New_York:20240628T193000
DTSTAMP:20260420T170647
CREATED:20220915T162007Z
LAST-MODIFIED:20240603T170457Z
UID:6000-1718393400-1719603000@rabbitrun.org
SUMMARY:Tuesdays with Morrie
DESCRIPTION:TUESDAYS WITH MORRIE is the autobiographical story of Mitch Albom\, an accomplished journalist driven solely by his career\, and Morrie Schwartz\, his former college professor. Sixteen years after graduation\, Mitch happens to catch Morrie’s appearance on a television news program and learns that his old professor is battling Lou Gehrig’s Disease. Mitch is reunited with Morrie\, and what starts as a simple visit turns into a weekly pilgrimage and a last class in the meaning of life. \nGenre:  Drama\nRating:  General audience \nJeffrey Hatcher and Mitch Albom\,  Based on the book by Mitch Albom \nPresented by special arrangement with Dramatists Play Service\, Inc.\, New York \nShow dates:  June 14\, 15\, 16\, 20\, 21\, 22\, 23\,  26\, 27\, 28 \nRabbit Run Theater is located at 5648 W. Chapel Rd.\, Madison\, OH  44057 \nEvening performances begin at 7:30 p.m. \nTo order season tickets call RRCAA at 440-428-5913. \nSingle tickets will b available for purchase May 1\, 2024. \nTo purchase single tickets click here:  https://rabbitrun.easy-ware-ticketing.com/events \n\n\n\n\n\n\nThe box office opens May 15\, 2024\nBox office hours:  Wed. – Sun.\, 3:00 – 7:00 p.m.\nBox office is closed the following days:  May 19\, June 9\, June 30\, July 27 and 28\nBox office number:  440-428-7092 \n\nPhoto on home page courtesy of Kathy Sandham.  Pictured (L to R) is George Roth as Morrie Schwartz and Dale Van Niel as Mitch Albom.
URL:https://rabbitrun.org/events/tuesdays-with-morrie/
CATEGORIES:Productions
ATTACH;FMTTYPE=image/jpeg:https://rabbitrun.org/wp-content/uploads/2023/11/Tuesdays-with-Morrie-final-scaled.jpg
END:VEVENT
END:VCALENDAR