BEGIN:VCALENDAR
VERSION:2.0
PRODID:-//Rabbit Run Community Arts Association - ECPv6.15.11//NONSGML v1.0//EN
CALSCALE:GREGORIAN
METHOD:PUBLISH
X-WR-CALNAME:Rabbit Run Community Arts Association
X-ORIGINAL-URL:https://rabbitrun.org
X-WR-CALDESC:Events for Rabbit Run Community Arts Association
REFRESH-INTERVAL;VALUE=DURATION:PT1H
X-Robots-Tag:noindex
X-PUBLISHED-TTL:PT1H
BEGIN:VTIMEZONE
TZID:America/New_York
BEGIN:DAYLIGHT
TZOFFSETFROM:-0500
TZOFFSETTO:-0400
TZNAME:EDT
DTSTART:20210314T070000
END:DAYLIGHT
BEGIN:STANDARD
TZOFFSETFROM:-0400
TZOFFSETTO:-0500
TZNAME:EST
DTSTART:20211107T060000
END:STANDARD
BEGIN:DAYLIGHT
TZOFFSETFROM:-0500
TZOFFSETTO:-0400
TZNAME:EDT
DTSTART:20220313T070000
END:DAYLIGHT
BEGIN:STANDARD
TZOFFSETFROM:-0400
TZOFFSETTO:-0500
TZNAME:EST
DTSTART:20221106T060000
END:STANDARD
BEGIN:DAYLIGHT
TZOFFSETFROM:-0500
TZOFFSETTO:-0400
TZNAME:EDT
DTSTART:20230312T070000
END:DAYLIGHT
BEGIN:STANDARD
TZOFFSETFROM:-0400
TZOFFSETTO:-0500
TZNAME:EST
DTSTART:20231105T060000
END:STANDARD
END:VTIMEZONE
BEGIN:VEVENT
DTSTART;TZID=America/New_York:20220722T193000
DTEND;TZID=America/New_York:20220806T193000
DTSTAMP:20260423T123834
CREATED:20211101T190927Z
LAST-MODIFIED:20220517T145023Z
UID:4657-1658518200-1659814200@rabbitrun.org
SUMMARY:Disney's Newsies\, the Musical
DESCRIPTION:Follow the rousing tale of charismatic news boy Jack Kelly as he and his fellow newsies rally to clash with New York City’s titans of publishing to fight for their rights.  Set in the turn-of-the century and inspired by a true story\, Newsies is packed with non-stop thrills\, great dance numbers and a timeless message–perfect for the whole family and every audience. \nGenre:  Musical\nRating:  General audience \nShow dates:  July 22\, 23\, 24\, 27\, 28\, 29\, 30\, 31\, Aug. 3\, 4\, 5\, 6 \nDirected by Brint Learned.\nMusical direction by Ed Leonard.\nChoreography by Hannah Hrutkay. \nThe box office opens May 11\, 2022\, for single ticket purchases. \nSingle tickets are now available for purchase online.  Click here to order single tickets. \nSingle ticket prices:\nAdult – $27; Senior/Student – $25; Youth ages 12 and under – $13 \nRabbit Run Theater is located at 5648 W. Chapel Rd.\, Madison\, OH  44057 \nMusic by Alan Menken. Lyrics by Jack Feldman. Book by Harvey Fierstein. Based on the Disney film written by Bob Tzudiker and Noni White.\nOriginally produced on Broadway by Disney Theatrical Productions\nNEWIES is presented through special arrangement with Music Theatre International (MTI).  All authorized performance materials are also supplied by MTI  www.mtishows.com \nCurtain time:  7:30 p.m.
URL:https://rabbitrun.org/events/disneys-newsies-the-musical/
CATEGORIES:Productions
ATTACH;FMTTYPE=image/jpeg:https://rabbitrun.org/wp-content/uploads/2021/11/Newsies-scaled.jpg
END:VEVENT
BEGIN:VEVENT
DTSTART;TZID=America/New_York:20220812T193000
DTEND;TZID=America/New_York:20220827T193000
DTSTAMP:20260423T123834
CREATED:20211101T191628Z
LAST-MODIFIED:20220627T154157Z
UID:4660-1660332600-1661628600@rabbitrun.org
SUMMARY:A Gentleman's Guide to Love & Murder
DESCRIPTION:A Gentleman’s Guide to Love and Murder is a knock-’em-dead\, uproarious hit with ten Tony Award nominations.  Low-born Monty Navarro is 8th in line for an earldom in the lofty D’Ysquith family. Can he knock off his unsuspecting relatives without being caught to become the 9th Earl of Highhurst?  A must-see\, murderous romp filled with unforgettable music and non-stop laughs! \nGenre:  Musical\nRating:  13+\, content \nShow dates:  Aug. 12\, 13\, 14\, 18\, 19\, 20\, 21\, 24\, 25\, 26\, 27 \nDirected by Brint Learned.\nMusical direction by Jonathan Gordon. \nThe box office opens May 11\, 2022\, for single ticket purchases. \nSingle tickets are now available for purchase online.  Click here to order single tickets. \nSingle ticket prices:\nAdult – $27; Senior/Student – $25; Youth ages 12 and under – $13 \nRabbit Run Theater is located at 5648 W. Chapel Rd.\, Madison\, OH  44057 \nEvening performances begin at 7:30 p.m. \nBook and Lyrics by ROBERT L. FREEDMAN. Music and Lyrics by STEVEN LUTVAK.  Based on a Novel by ROY HORNIMAN \n“Original Broadway Production Produced by\nJoey Parnes\, Sue Wagner\, John Johnson\,\n50 Church Street Productions\, Joan Raffe & Jhett Tolentino\, Jay Alix & Una Jackman\,\nCatherine & Fred Adler\, Rhoda Herrick\, Kathleen K. Johnson\, Megan Savage\,\nShadowCatcher Entertainment\, Ron Simons\, True Love Productions\, Jamie deRoy\,\nFour Ladies & One Gent\, John Arthur Pinckard\, Greg Nobile\, Stewart Lane & Bonnie Comley\nExeter Capital/Ted Snowdon\, Ryan Hugh Mackey\, Cricket-CTM Media/Mano-Horn Productions\,\nDennis Grimaldi/Margot Astrachan\, Hello Entertainment/Jamie Bendell\nMichael T. Cohen/Joe Sirola\, Joseph & Carson Gleberman/William Megevick\nand\nGreen State Productions\nIn association with\nThe Hartford Stage and The Old Globe”\n\nA GENTLEMAN’S GUIDE TO LOVE & MURDER was developed\, in part\, at the 2006 Sundance Institute Theatre Lab at the Sundance Resort with continuing Post-Lab Support through its initiative with the Andrew W. Mellon Foundation.\n 
URL:https://rabbitrun.org/events/a-gentlemans-guide-to-love-murder/
CATEGORIES:Productions
ATTACH;FMTTYPE=image/jpeg:https://rabbitrun.org/wp-content/uploads/2022/02/Gentlemans-Guide-cropped.jpg
END:VEVENT
END:VCALENDAR