BEGIN:VCALENDAR
VERSION:2.0
PRODID:-//Rabbit Run Community Arts Association - ECPv6.15.11//NONSGML v1.0//EN
CALSCALE:GREGORIAN
METHOD:PUBLISH
X-WR-CALNAME:Rabbit Run Community Arts Association
X-ORIGINAL-URL:https://rabbitrun.org
X-WR-CALDESC:Events for Rabbit Run Community Arts Association
REFRESH-INTERVAL;VALUE=DURATION:PT1H
X-Robots-Tag:noindex
X-PUBLISHED-TTL:PT1H
BEGIN:VTIMEZONE
TZID:America/New_York
BEGIN:DAYLIGHT
TZOFFSETFROM:-0500
TZOFFSETTO:-0400
TZNAME:EDT
DTSTART:20210314T070000
END:DAYLIGHT
BEGIN:STANDARD
TZOFFSETFROM:-0400
TZOFFSETTO:-0500
TZNAME:EST
DTSTART:20211107T060000
END:STANDARD
BEGIN:DAYLIGHT
TZOFFSETFROM:-0500
TZOFFSETTO:-0400
TZNAME:EDT
DTSTART:20220313T070000
END:DAYLIGHT
BEGIN:STANDARD
TZOFFSETFROM:-0400
TZOFFSETTO:-0500
TZNAME:EST
DTSTART:20221106T060000
END:STANDARD
BEGIN:DAYLIGHT
TZOFFSETFROM:-0500
TZOFFSETTO:-0400
TZNAME:EDT
DTSTART:20230312T070000
END:DAYLIGHT
BEGIN:STANDARD
TZOFFSETFROM:-0400
TZOFFSETTO:-0500
TZNAME:EST
DTSTART:20231105T060000
END:STANDARD
END:VTIMEZONE
BEGIN:VEVENT
DTSTART;TZID=America/New_York:20220527T193000
DTEND;TZID=America/New_York:20220611T193000
DTSTAMP:20260423T150422
CREATED:20211101T185241Z
LAST-MODIFIED:20220523T143847Z
UID:4651-1653679800-1654975800@rabbitrun.org
SUMMARY:The Belle of Amherst
DESCRIPTION:One of America’s greatest and most important poets\, Emily Dickinson\, comes vibrantly to life in this one-person play.  An unforgettable play-going experience\, “The Belle of Amherst” is riveting\, giving beautiful and poignant insight into the warmth\, wit\, passion and loving nature of this prolific and beloved author. \nGenre:  Drama\nRating:  General audience \nShow dates:  May 27\, 28\, 29\, June 2\, 3\, 4\, 5\, 9\, 10\, 11 \nDirected by Ann Hedger. \nA play by William Luce \nPresented by special arrangement with Dramatists Play Service\, Inc.\, New York. \nCurtain time:  7:30 p.m. \nThe box office opens May 11\, 2022\, for single ticket purchases. \nSingle tickets are now available for purchase online.  Click here to order single tickets. \nSingle ticket prices:\nAdult – $27; Senior/Student – $25; Youth ages 12 and under – $13 \nRabbit Run Theater is located at 5648 W. Chapel Rd.\, Madison\, OH  44057 \n  \n(“Belle of Amherst” photo on home page features Nancy Shimonek Brooks as Emily Dickinson courtesy of Kathy Sandham and the Steele Mansion) \n  \n  \n  \n  \n 
URL:https://rabbitrun.org/events/the-belle-of-amherst/
CATEGORIES:Productions
ATTACH;FMTTYPE=image/jpeg:https://rabbitrun.org/wp-content/uploads/2021/11/Belle-of-Amherst-cropped.jpg
END:VEVENT
BEGIN:VEVENT
DTSTART;TZID=America/New_York:20220624T193000
DTEND;TZID=America/New_York:20220709T193000
DTSTAMP:20260423T150422
CREATED:20211101T190229Z
LAST-MODIFIED:20220621T202243Z
UID:4654-1656099000-1657395000@rabbitrun.org
SUMMARY:Titanic\, the Musical
DESCRIPTION:Winner of five Tony Awards\, Titanic\, the Musical is a stirring and unforgettable account of the first and last days of this ship of dreams.  Told through some of the real life characters\, this epic production grips the heart with its depth of human passion and courage. \nGenre:  Musical\nRating:  General audience \nShow dates:  June 24\, 25\, 26\, 30 (sold out)\, July 1\, 2\, 3\, 7\, 8\, 9 \nDirected by Brint Learned.\nMusical direction by Danielle Jones.\nChoreography by Hannah Hrutkay. \nThe box office opens May 11\, 2022\, for single ticket purchases. \nSingle tickets are now available for purchase online.  Click here to order single tickets. \nSingle ticket prices:\nAdult – $27; Senior/Student – $25; Youth ages 12 and under – $13 \nRabbit Run Theater is located at 5648 W. Chapel Rd.\, Madison\, OH  44057 \nEvening performances begin at 7:30 p.m. \nStory and Book by Peter Stone\nMusic and Lyrics by Maury Yeston\nOrchestrations by Ian Weinberger \nTITANIC – ENSEMBLE VERSION is presented by arrangement with Concord Theatricals on behalf of Tams-Witmark LLC.  www.concordtheatricals.com \nEnjoy the follow profiles highlighting people on the RMS Titanic and the actor portraying that person.  (Prepared by RRCAA Board Member Taylor Mortensen.) \n \n \n  \n \n \n  \n \n \n  \n \n \n  \n \n \n 
URL:https://rabbitrun.org/events/titanic-the-musical/
CATEGORIES:Productions
ATTACH;FMTTYPE=image/jpeg:https://rabbitrun.org/wp-content/uploads/2021/11/Titanic-scaled.jpg
END:VEVENT
END:VCALENDAR