BEGIN:VCALENDAR
VERSION:2.0
PRODID:-//Rabbit Run Community Arts Association - ECPv6.15.11//NONSGML v1.0//EN
CALSCALE:GREGORIAN
METHOD:PUBLISH
X-WR-CALNAME:Rabbit Run Community Arts Association
X-ORIGINAL-URL:https://rabbitrun.org
X-WR-CALDESC:Events for Rabbit Run Community Arts Association
REFRESH-INTERVAL;VALUE=DURATION:PT1H
X-Robots-Tag:noindex
X-PUBLISHED-TTL:PT1H
BEGIN:VTIMEZONE
TZID:America/New_York
BEGIN:DAYLIGHT
TZOFFSETFROM:-0500
TZOFFSETTO:-0400
TZNAME:EDT
DTSTART:20200308T070000
END:DAYLIGHT
BEGIN:STANDARD
TZOFFSETFROM:-0400
TZOFFSETTO:-0500
TZNAME:EST
DTSTART:20201101T060000
END:STANDARD
BEGIN:DAYLIGHT
TZOFFSETFROM:-0500
TZOFFSETTO:-0400
TZNAME:EDT
DTSTART:20210314T070000
END:DAYLIGHT
BEGIN:STANDARD
TZOFFSETFROM:-0400
TZOFFSETTO:-0500
TZNAME:EST
DTSTART:20211107T060000
END:STANDARD
BEGIN:DAYLIGHT
TZOFFSETFROM:-0500
TZOFFSETTO:-0400
TZNAME:EDT
DTSTART:20220313T070000
END:DAYLIGHT
BEGIN:STANDARD
TZOFFSETFROM:-0400
TZOFFSETTO:-0500
TZNAME:EST
DTSTART:20221106T060000
END:STANDARD
END:VTIMEZONE
BEGIN:VEVENT
DTSTART;TZID=America/New_York:20210730T193000
DTEND;TZID=America/New_York:20210801T193000
DTSTAMP:20260424T024949
CREATED:20210526T191954Z
LAST-MODIFIED:20210712T193949Z
UID:4210-1627673400-1627846200@rabbitrun.org
SUMMARY:Guest Artist Series - A Lovely Night
DESCRIPTION:The Guest Artist Series are new this year born out of the live nights of music last summer at the barn when the theater was in COVID-19 shuttering.  Each series is in-person at the barn and features some of your favorite Rabbit Run performers.  A streaming option is also available. \nJuly 30\, 31 and Aug. 1 \nA Lovely Night: an Evening of Rodgers & Hammerstein\, the Great American Songbook and More\nfeaturing the vocal talents of Lindsey Leonard with accompanist Ed Leonard. \nLindsey is easily recognizable from her stunning performances at Rabbit Run as Eliza in My Fair Lady\, Nellie Forbush in South Pacific\, Jo Marsh in Little Women\, the Musical and Amalia Balash in She Loves Me.   \nShe has performed opera and musical theatre roles in the Cleveland area with the Akron Symphony\, The Musical Theater Project\, Cleveland Opera Theatre\, the Beck Center\, Cain Park\, Fine Arts Association\, Lakeland Civic Theatre and Rabbit Run Theater. \nHer husband Ed Leonard is an accomplished classical and jazz pianist\, composer\, arranger and educator.  He holds a Master of Music degree in piano performance from Kent State University and is on the fine arts faculty at Western Reserve Academy specializing in digital music.  Over the years he has musically directed and played in many orchestra pits at Rabbit Run Theater. \nAlso performing with Lindsey are vocalists Brian Altman\, Connor O’Brien and Lincoln Sandham. \n                               \nBrian Altman                      Connor O’Brien                        Stephen Sandham \nSpend a wonderful evening at the barn listening to Lindsey’s beautiful soprano voice sing some of your favorite Rodgers & Hammerstein melodies as well as tunes from The Great American Songbook. \nConcerts begin at 7:30 p.m. \nTickets:  $15/person per concert \nClick here to order tickets. \n  \nTop photo courtesy of Kathy Sandham
URL:https://rabbitrun.org/events/guest-artist-series-a-lovely-night/
CATEGORIES:Concerts,Productions,Recitals
ATTACH;FMTTYPE=image/jpeg:https://rabbitrun.org/wp-content/uploads/2021/05/Lindsey-and-Ed.jpg
END:VEVENT
BEGIN:VEVENT
DTSTART;TZID=America/New_York:20210803T193000
DTEND;TZID=America/New_York:20210804T193000
DTSTAMP:20260424T024949
CREATED:20210526T195452Z
LAST-MODIFIED:20210621T183119Z
UID:4214-1628019000-1628105400@rabbitrun.org
SUMMARY:Guest Artist Series - Summertime
DESCRIPTION:The Guest Artist Series are new this year born out of the live nights of music last summer at the barn when the theater was in COVID-19 shuttering.  Each series is in-person at the barn and features some of your favorite Rabbit Run performers.  A streaming option is also available. \nAug. 3 & 4 \nSummertime: A Tribute to Ella Fitzgerald\nfeaturing the vocal talents of Maria Thomas Lister and Madtown Jazz \nYou will remember Maria Thomas Lister from her many roles at the barn including Bloody Mary in South Pacific\, a female vocalist in Jacques Brel is Alive and Well\, the Witch in Into the Woods and Nettie in Carousel. \nRelax and enjoy Maria’s sultry voice as she serenades you with jazz diva\, Ella Fitzgerald’s greatest hits. \nConcerts begin at 7:30 p.m. \nTickets:  $15/person per concert \nClick here to order tickets.
URL:https://rabbitrun.org/events/guest-artist-series-summertime/
CATEGORIES:Concerts,Productions,Recitals
ATTACH;FMTTYPE=image/jpeg:https://rabbitrun.org/wp-content/uploads/2021/05/DSC_1434-2.jpg
END:VEVENT
BEGIN:VEVENT
DTSTART;TZID=America/New_York:20210813T193000
DTEND;TZID=America/New_York:20210911T193000
DTSTAMP:20260424T024949
CREATED:20181211T135723Z
LAST-MODIFIED:20210809T160043Z
UID:252-1628883000-1631388600@rabbitrun.org
SUMMARY:The Marvelous Wonderettes
DESCRIPTION:This smash Off-Broadway hit takes us to the 1958 Springfield High School prom\, where we meet Betty Jean\, Cindy Lou\, Missy and Suzy—four girls with hopes and dreams as big as their crinoline skirts.  Featuring over 30 classic 50’s and 60’s hits\, like “Lollipop”\, “Dream Lover” and “Stupid Cupid”\, The Marvelous Wonderettes will keep you smiling in this musical trip down memory lane. \nShow dates:  Aug. 13\, 14\, 15\, 19\, 20\, 21\, 22\, 26\, 27\, 28\, 29\, Sept. 2\, 3\, 4\, 5\, 9\, 10\, 11 \nGenre:  Musical\nRating:  General audience \nWritten and created by Roger Bean \nMusical Arrangements by Brian William Baker\nOrchestrations by Michael Borth\nVocal Arrangements by Roger Bear & Brian Willian Baker \nOriginally Produced for the New York Stage by\nDavid Elzer\, Roger Bean & Peter Schneider \nThe Marvelous Wonderettes premiered at Milwaukee Repertory Theatre.\nJoseph Hanreddy\, Artistic Director and Timothy J. Shields\, Managing Director. \nPresented in special arrangement with Stage Rights (www.stagerights.com) \nDirected by Sandy Kosovich Peck\nMusical Direction by Danielle Jones \nSingle tickets are now available–click here to reserve tickets. \nCurtain time is 7:30 p.m.
URL:https://rabbitrun.org/events/marvelouswonderettes/
LOCATION:Rabbit Run Theater\, 5648 West Chapel Rd\, Madion\, OH\, 44057\, United States
CATEGORIES:Productions
ATTACH;FMTTYPE=image/jpeg:https://rabbitrun.org/wp-content/uploads/2018/12/Wonderettes-with-sparkles.jpg
END:VEVENT
BEGIN:VEVENT
DTSTART;TZID=America/New_York:20210817T193000
DTEND;TZID=America/New_York:20210817T213000
DTSTAMP:20260424T024949
CREATED:20210621T182955Z
LAST-MODIFIED:20210621T183006Z
UID:4370-1629228600-1629235800@rabbitrun.org
SUMMARY:Guest Artist Series - The Madtown Jazz Expansion
DESCRIPTION:The Guest Artist Series are new this year born out of the live nights of music last summer at the barn when the theater was in COVID-19 shuttering.  Each series is in-person at the barn and features some of your favorite Rabbit Run performers.  A streaming option is also available. \nAug. 17 \nThe Madtown Jazz Expansion Debut\n \nJoin us August 17 for an evening of outstanding jazz music with the debut of The Madtown Jazz Expansion (MJX).  Madtown Jazz has been performing throughout Northeast Ohio since 2017\, but now the quintet-sized jazz combo has joined forces with other gifted musicians in the area to form the 11-member Madtown Jazz Expansion. \nYou don’t want to miss this wonderful evening as the barn fills with the sounds of great jazz classics as well as swing\, Latin\, funk and more. \nConcert begins at 7:30 p.m. \nTickets:  $15/person per concert \nClick here to order tickets.
URL:https://rabbitrun.org/events/guest-artist-series-the-madtown-jazz-expansion/
CATEGORIES:Concerts,Productions,Recitals
ATTACH;FMTTYPE=image/jpeg:https://rabbitrun.org/wp-content/uploads/2021/06/Madtown-Jazz-Expansion.jpeg
END:VEVENT
END:VCALENDAR