BEGIN:VCALENDAR
VERSION:2.0
PRODID:-//Rabbit Run Community Arts Association - ECPv6.15.11//NONSGML v1.0//EN
CALSCALE:GREGORIAN
METHOD:PUBLISH
X-ORIGINAL-URL:https://rabbitrun.org
X-WR-CALDESC:Events for Rabbit Run Community Arts Association
REFRESH-INTERVAL;VALUE=DURATION:PT1H
X-Robots-Tag:noindex
X-PUBLISHED-TTL:PT1H
BEGIN:VTIMEZONE
TZID:America/New_York
BEGIN:DAYLIGHT
TZOFFSETFROM:-0500
TZOFFSETTO:-0400
TZNAME:EDT
DTSTART:20200308T070000
END:DAYLIGHT
BEGIN:STANDARD
TZOFFSETFROM:-0400
TZOFFSETTO:-0500
TZNAME:EST
DTSTART:20201101T060000
END:STANDARD
BEGIN:DAYLIGHT
TZOFFSETFROM:-0500
TZOFFSETTO:-0400
TZNAME:EDT
DTSTART:20210314T070000
END:DAYLIGHT
BEGIN:STANDARD
TZOFFSETFROM:-0400
TZOFFSETTO:-0500
TZNAME:EST
DTSTART:20211107T060000
END:STANDARD
BEGIN:DAYLIGHT
TZOFFSETFROM:-0500
TZOFFSETTO:-0400
TZNAME:EDT
DTSTART:20220313T070000
END:DAYLIGHT
BEGIN:STANDARD
TZOFFSETFROM:-0400
TZOFFSETTO:-0500
TZNAME:EST
DTSTART:20221106T060000
END:STANDARD
END:VTIMEZONE
BEGIN:VEVENT
DTSTART;TZID=America/New_York:20210528T193000
DTEND;TZID=America/New_York:20210619T193000
DTSTAMP:20260424T050518
CREATED:20200427T011250Z
LAST-MODIFIED:20210601T200741Z
UID:2142-1622230200-1624131000@rabbitrun.org
SUMMARY:Always...Patsy Cline
DESCRIPTION:With the easing of the COVID-19 state mandates\, we have been able to open up a block of seats for this coming weekend\, June 10 – 13!\n\nTickets are available at the box office at 440-428-7092\nBox office hours: Wed. – Sun.\, 3 – 7 pm\n\n“Always . . . Patsy Cline” is playing to\nstanding ovations at the barn!\n  \n“Always…Patsy Cline” is more than a tribute to the legendary country singer who died tragically at age 30.  The show is based on a true story about Cline’s friendship with a fan from Houston\, who befriended the star in a Texas honky-tonk.  Complete with down home country humor and true emotion\, the show includes many of Patsy’ unforgettable hits such as Crazy\, I Fall to Pieces\, Sweet Dreams and Walking After Midnight. \nGenre:  Musical\nRating:  General audience \nShow dates:  May 28\, 29\, 30\, June 4\, 5\, 6\, 10 (sold out)\, 11 (sold out)\, 12\, 13\, 16\, 17\, 18\, 19 \nCreated and Directed by Ted Swindley – based on a true story. \nDirected by Brint Learned.\nMusical Direction by Jonathan Gordon. \nSingle tickets are currently available–click here to reserve tickets. \nSeason tickets are available for purchase.  Click below for a Season Subscription Order Form. \nSubscription Order Form 2021 \nCurtain time is 7:30 p.m.
URL:https://rabbitrun.org/events/always-patsy-cline/
LOCATION:Rabbit Run Theater\, 5648 West Chapel Rd\, Madion\, OH\, 44057\, United States
CATEGORIES:Productions
ATTACH;FMTTYPE=image/jpeg:https://rabbitrun.org/wp-content/uploads/2020/04/PatsyCline.jpg
END:VEVENT
BEGIN:VEVENT
DTSTART;TZID=America/New_York:20210625T193000
DTEND;TZID=America/New_York:20210723T193000
DTSTAMP:20260424T050518
CREATED:20200427T011019Z
LAST-MODIFIED:20210520T200058Z
UID:2139-1624649400-1627068600@rabbitrun.org
SUMMARY:Daddy Long Legs
DESCRIPTION:Based on the classic novel by Jean Webster\, Daddy Longlegs is a heartwarming Cinderella story about a witty and winsome young woman and her mysterious benefactor.   In the spirit of Jane Austen\, The Brontë Sisters and “Downton Abbey”\, this delightful musical features music and lyrics by Tony Award-nominated composer/lyricist\, Paul Gordon (Jane Eyre)\, and Tony-winning librettist/director\, John Caird (Les Misérables). \nGenre:  Musical\nRating:  General audience\n \nShow dates:  June 25\, 26\, 27\, July 1\, 2\, 3\, 8\,\,9\, 10\, 11\, 15\, 16\, 17\, 18\, 21\, 22\, 23 \nBook by John Caird \nDirected by Brint Learned.\nMusical direction by Jonathan Gordon. \nSingle tickets are available–click here to reserve tickets. \nSeason tickets for 2021 are also available.  Click below for a Season Subscription Order Form \nSubscription Order Form 2021 \nCurtain time is 7:30 p.m.
URL:https://rabbitrun.org/events/daddylonglegs/
LOCATION:Rabbit Run Theater\, 5648 West Chapel Rd\, Madion\, OH\, 44057\, United States
CATEGORIES:Productions
ATTACH;FMTTYPE=image/jpeg:https://rabbitrun.org/wp-content/uploads/2020/04/LongLegs-with-blue.jpg
END:VEVENT
END:VCALENDAR