BEGIN:VCALENDAR
VERSION:2.0
PRODID:-//Rabbit Run Community Arts Association - ECPv6.15.11//NONSGML v1.0//EN
CALSCALE:GREGORIAN
METHOD:PUBLISH
X-ORIGINAL-URL:https://rabbitrun.org
X-WR-CALDESC:Events for Rabbit Run Community Arts Association
REFRESH-INTERVAL;VALUE=DURATION:PT1H
X-Robots-Tag:noindex
X-PUBLISHED-TTL:PT1H
BEGIN:VTIMEZONE
TZID:America/New_York
BEGIN:DAYLIGHT
TZOFFSETFROM:-0500
TZOFFSETTO:-0400
TZNAME:EDT
DTSTART:20190310T070000
END:DAYLIGHT
BEGIN:STANDARD
TZOFFSETFROM:-0400
TZOFFSETTO:-0500
TZNAME:EST
DTSTART:20191103T060000
END:STANDARD
BEGIN:DAYLIGHT
TZOFFSETFROM:-0500
TZOFFSETTO:-0400
TZNAME:EDT
DTSTART:20200308T070000
END:DAYLIGHT
BEGIN:STANDARD
TZOFFSETFROM:-0400
TZOFFSETTO:-0500
TZNAME:EST
DTSTART:20201101T060000
END:STANDARD
BEGIN:DAYLIGHT
TZOFFSETFROM:-0500
TZOFFSETTO:-0400
TZNAME:EDT
DTSTART:20210314T070000
END:DAYLIGHT
BEGIN:STANDARD
TZOFFSETFROM:-0400
TZOFFSETTO:-0500
TZNAME:EST
DTSTART:20211107T060000
END:STANDARD
BEGIN:DAYLIGHT
TZOFFSETFROM:-0500
TZOFFSETTO:-0400
TZNAME:EDT
DTSTART:20220313T070000
END:DAYLIGHT
BEGIN:STANDARD
TZOFFSETFROM:-0400
TZOFFSETTO:-0500
TZNAME:EST
DTSTART:20221106T060000
END:STANDARD
BEGIN:DAYLIGHT
TZOFFSETFROM:-0500
TZOFFSETTO:-0400
TZNAME:EDT
DTSTART:20230312T070000
END:DAYLIGHT
BEGIN:STANDARD
TZOFFSETFROM:-0400
TZOFFSETTO:-0500
TZNAME:EST
DTSTART:20231105T060000
END:STANDARD
BEGIN:DAYLIGHT
TZOFFSETFROM:-0500
TZOFFSETTO:-0400
TZNAME:EDT
DTSTART:20240310T070000
END:DAYLIGHT
BEGIN:STANDARD
TZOFFSETFROM:-0400
TZOFFSETTO:-0500
TZNAME:EST
DTSTART:20241103T060000
END:STANDARD
BEGIN:DAYLIGHT
TZOFFSETFROM:-0500
TZOFFSETTO:-0400
TZNAME:EDT
DTSTART:20250309T070000
END:DAYLIGHT
BEGIN:STANDARD
TZOFFSETFROM:-0400
TZOFFSETTO:-0500
TZNAME:EST
DTSTART:20251102T060000
END:STANDARD
BEGIN:DAYLIGHT
TZOFFSETFROM:-0500
TZOFFSETTO:-0400
TZNAME:EDT
DTSTART:20260308T070000
END:DAYLIGHT
BEGIN:STANDARD
TZOFFSETFROM:-0400
TZOFFSETTO:-0500
TZNAME:EST
DTSTART:20261101T060000
END:STANDARD
END:VTIMEZONE
BEGIN:VEVENT
DTSTART;TZID=America/New_York:20251212T193000
DTEND;TZID=America/New_York:20251212T210000
DTSTAMP:20260422T101509
CREATED:20221114T152252Z
LAST-MODIFIED:20251118T165156Z
UID:4746-1765567800-1765573200@rabbitrun.org
SUMMARY:Sing Joy\, Speak Peace
DESCRIPTION:Ring in the holidays with the Madison Chorale’s Christmas Concert\, “Sing Joy\, Speak Peace”.  Come hear the Chorale as they perform on Friday\, Dec. 12\, at Trinity Lutheran Church in Madison.  Enjoy Christmas music through the ages with the Chorale dressed in Renaissance costume. \nUnder the direction of Beth Johnson\, the Madison Chorale is comprised of volunteer vocalists from Lake\, Ashtabula and Geauga counties and has performed at private and public functions for over 35 years. \nGive your eyes and ears a treat as you get into the holiday spirit listening to the dulcet tones of the Chorale. \nFriday\, Dec. 12\, 2025\n7:30 p.m.  \nTrinity Lutheran Church\n6345 Chapel Rd.\, Madison   \nA free will offering will be accepted.  Open to the public. \nComplimentary refreshments will be served immediately following the concert.
URL:https://rabbitrun.org/events/sing-joy-speak-peace/
CATEGORIES:Concerts,Recitals
ATTACH;FMTTYPE=image/jpeg:https://rabbitrun.org/wp-content/uploads/2025/11/Chorale-Christmas-25.jpg
END:VEVENT
BEGIN:VEVENT
DTSTART;TZID=America/New_York:20250819T193000
DTEND;TZID=America/New_York:20250901T213000
DTSTAMP:20260422T101509
CREATED:20220420T141024Z
LAST-MODIFIED:20250625T165749Z
UID:5336-1755631800-1756762200@rabbitrun.org
SUMMARY:Guest Artist Series - 2025
DESCRIPTION:Our Guest Artist Series began several years ago\, and we are delighted to once again offer these special events. \nThe grounds open at 6 for these events\, so feel free to bring a picnic dinner to enjoy on the beautiful theater grounds prior to the concerts. \nOur proud sponsor for this summer’s Guest Artist Series is Junction Auto and Northern Ohio Buick GMC Dealers. \nTo purchase tickets click here. \n\nMADTOWN Jazz Expansion – June 24 \nLast summer the barn reverberated with the spectacular jazz tones of the Madison Jazz Expansion\, and they will be back once again this summer\, Tuesday\, June 24\, for an evening of incredible music\, including a repertoire of swing\, Latin\, funk and modern. \nYou will be wowed by the depth of this ensemble’s musical prowess. \n  \n  \n\nDon Disantis Band – Aug. 19\n \nTony Award Winning Musicals and More! \nFrom the ensemble that last year brought you The Sinatra Tribute Show\, these multi-talented musicians present an evening of Tony Award winning songs from favorite Broadway musicals\, dating from the 1940’s through the 1980’s.  Tossed in to the mix are show tunes that may not be award winners but are “Oh\, so familiar”.  You will delight to hear songs from South Pacific\, My Fair Lady\, Fiddler On The Roof\, Man Of La Mancha\, Camelot\, Oliver\, Les Miserable\, Phantom Of The Opera and many more.  Over the years\, Don has had the pleasure of performing many of the roles in the musicals from which these songs originate.  So\, take a ride with Don Disantis on vocals\, Karin Tooley on keyboard\, Brian Dorr on bass\, George Judy on drums and Mike Fisher on trumpet as we travel the Great White Way and present the classic songs of Broadway. \n  \n  \nAll Guest Artist Series concerts are held at Rabbit Run Theater and begin at 7:30 p.m. \n  \nTo purchase tickets click here. \n  \nOur Guest Artist Series Sponsor\n \n  \n  \n 
URL:https://rabbitrun.org/events/guest-artist-series-2025/
LOCATION:Rabbit Run Theater\, 5648 West Chapel Rd\, Madion\, OH\, 44057\, United States
CATEGORIES:Concerts,Productions
ATTACH;FMTTYPE=image/jpeg:https://rabbitrun.org/wp-content/uploads/2024/07/Guest-Artist-Series-Don-Disantis-scaled.jpg
END:VEVENT
BEGIN:VEVENT
DTSTART;TZID=America/New_York:20210817T193000
DTEND;TZID=America/New_York:20210817T213000
DTSTAMP:20260422T101509
CREATED:20210621T182955Z
LAST-MODIFIED:20210621T183006Z
UID:4370-1629228600-1629235800@rabbitrun.org
SUMMARY:Guest Artist Series - The Madtown Jazz Expansion
DESCRIPTION:The Guest Artist Series are new this year born out of the live nights of music last summer at the barn when the theater was in COVID-19 shuttering.  Each series is in-person at the barn and features some of your favorite Rabbit Run performers.  A streaming option is also available. \nAug. 17 \nThe Madtown Jazz Expansion Debut\n \nJoin us August 17 for an evening of outstanding jazz music with the debut of The Madtown Jazz Expansion (MJX).  Madtown Jazz has been performing throughout Northeast Ohio since 2017\, but now the quintet-sized jazz combo has joined forces with other gifted musicians in the area to form the 11-member Madtown Jazz Expansion. \nYou don’t want to miss this wonderful evening as the barn fills with the sounds of great jazz classics as well as swing\, Latin\, funk and more. \nConcert begins at 7:30 p.m. \nTickets:  $15/person per concert \nClick here to order tickets.
URL:https://rabbitrun.org/events/guest-artist-series-the-madtown-jazz-expansion/
CATEGORIES:Concerts,Productions,Recitals
ATTACH;FMTTYPE=image/jpeg:https://rabbitrun.org/wp-content/uploads/2021/06/Madtown-Jazz-Expansion.jpeg
END:VEVENT
BEGIN:VEVENT
DTSTART;TZID=America/New_York:20210803T193000
DTEND;TZID=America/New_York:20210804T193000
DTSTAMP:20260422T101509
CREATED:20210526T195452Z
LAST-MODIFIED:20210621T183119Z
UID:4214-1628019000-1628105400@rabbitrun.org
SUMMARY:Guest Artist Series - Summertime
DESCRIPTION:The Guest Artist Series are new this year born out of the live nights of music last summer at the barn when the theater was in COVID-19 shuttering.  Each series is in-person at the barn and features some of your favorite Rabbit Run performers.  A streaming option is also available. \nAug. 3 & 4 \nSummertime: A Tribute to Ella Fitzgerald\nfeaturing the vocal talents of Maria Thomas Lister and Madtown Jazz \nYou will remember Maria Thomas Lister from her many roles at the barn including Bloody Mary in South Pacific\, a female vocalist in Jacques Brel is Alive and Well\, the Witch in Into the Woods and Nettie in Carousel. \nRelax and enjoy Maria’s sultry voice as she serenades you with jazz diva\, Ella Fitzgerald’s greatest hits. \nConcerts begin at 7:30 p.m. \nTickets:  $15/person per concert \nClick here to order tickets.
URL:https://rabbitrun.org/events/guest-artist-series-summertime/
CATEGORIES:Concerts,Productions,Recitals
ATTACH;FMTTYPE=image/jpeg:https://rabbitrun.org/wp-content/uploads/2021/05/DSC_1434-2.jpg
END:VEVENT
BEGIN:VEVENT
DTSTART;TZID=America/New_York:20210730T193000
DTEND;TZID=America/New_York:20210801T193000
DTSTAMP:20260422T101509
CREATED:20210526T191954Z
LAST-MODIFIED:20210712T193949Z
UID:4210-1627673400-1627846200@rabbitrun.org
SUMMARY:Guest Artist Series - A Lovely Night
DESCRIPTION:The Guest Artist Series are new this year born out of the live nights of music last summer at the barn when the theater was in COVID-19 shuttering.  Each series is in-person at the barn and features some of your favorite Rabbit Run performers.  A streaming option is also available. \nJuly 30\, 31 and Aug. 1 \nA Lovely Night: an Evening of Rodgers & Hammerstein\, the Great American Songbook and More\nfeaturing the vocal talents of Lindsey Leonard with accompanist Ed Leonard. \nLindsey is easily recognizable from her stunning performances at Rabbit Run as Eliza in My Fair Lady\, Nellie Forbush in South Pacific\, Jo Marsh in Little Women\, the Musical and Amalia Balash in She Loves Me.   \nShe has performed opera and musical theatre roles in the Cleveland area with the Akron Symphony\, The Musical Theater Project\, Cleveland Opera Theatre\, the Beck Center\, Cain Park\, Fine Arts Association\, Lakeland Civic Theatre and Rabbit Run Theater. \nHer husband Ed Leonard is an accomplished classical and jazz pianist\, composer\, arranger and educator.  He holds a Master of Music degree in piano performance from Kent State University and is on the fine arts faculty at Western Reserve Academy specializing in digital music.  Over the years he has musically directed and played in many orchestra pits at Rabbit Run Theater. \nAlso performing with Lindsey are vocalists Brian Altman\, Connor O’Brien and Lincoln Sandham. \n                               \nBrian Altman                      Connor O’Brien                        Stephen Sandham \nSpend a wonderful evening at the barn listening to Lindsey’s beautiful soprano voice sing some of your favorite Rodgers & Hammerstein melodies as well as tunes from The Great American Songbook. \nConcerts begin at 7:30 p.m. \nTickets:  $15/person per concert \nClick here to order tickets. \n  \nTop photo courtesy of Kathy Sandham
URL:https://rabbitrun.org/events/guest-artist-series-a-lovely-night/
CATEGORIES:Concerts,Productions,Recitals
ATTACH;FMTTYPE=image/jpeg:https://rabbitrun.org/wp-content/uploads/2021/05/Lindsey-and-Ed.jpg
END:VEVENT
BEGIN:VEVENT
DTSTART;TZID=America/New_York:20201216T193000
DTEND;TZID=America/New_York:20210121T070000
DTSTAMP:20260422T101509
CREATED:20201207T201732Z
LAST-MODIFIED:20201217T211309Z
UID:3712-1608147000-1611212400@rabbitrun.org
SUMMARY:Sounds of the Season
DESCRIPTION:It’s the most wonderful time of the year\, and to help you celebrate\, we are inviting you to watch Rabbit Run’s concert Sounds of the Season\, Wednesday\, Dec. 16\, beginning at 7:30 p.m.\n\n\nJoin us as many of your favorite Rabbit Run actors perform some of the most cherished songs of the season.\n\n\nDelight to hear Lindsey Leonard’s rendition of “O\, Holy Night”\, Kyle Lorek sing “White Christmas” or Emily Stack melodically wishing everyone to “Have Yourself a Merry Little Christmas”. Rounding out the cast are Haley Gagnon\, J J Luster\, Evie Koh\, pianist Ed Leonard and many more.\n\n\n“Sounds of the Season” is our gift to you\, our faithful donors\, patrons and supporters\, to help make your holidays merry and bright!\n\n\nTo watch “Sounds of the Season”\nclick on the link below beginning Dec. 16 at 7:30 p.m.\n\nhttps://youtu.be/9QW-OSEBv18
URL:https://rabbitrun.org/events/sounds-of-the-season/
CATEGORIES:Concerts,Productions,Recitals
ATTACH;FMTTYPE=image/jpeg:https://rabbitrun.org/wp-content/uploads/2020/12/Cabaret-Four-Christmas-1.jpg
END:VEVENT
BEGIN:VEVENT
DTSTART;TZID=America/New_York:20200915T080000
DTEND;TZID=America/New_York:20201201T170000
DTSTAMP:20260422T101509
CREATED:20200723T202458Z
LAST-MODIFIED:20201207T205812Z
UID:3189-1600156800-1606842000@rabbitrun.org
SUMMARY:Sondheim\, Swing and Other Things
DESCRIPTION:Even though the barn doors are closed this summer\, we haven’t let that slow us down! Our live concerts on the grounds of the theater and our series of streamed cabarets are welcomed events in a summer without the barn doors open. \nOur third and final cabaret for the summer is “Sondheim\, Swing and Other Things” featuring the vocal talents of Maria Lister and Colleen O’Leary. \n“Sondheim\, Swing and Other Things” is now available for viewing.  To watch this delightful cabaret filled with familiar and favorite melodies\, click on the link listed below. \nMaria Lister is a very familiar face at Rabbit Run Theater.  Over the years she has graced the stage in “Tintypes”\, “Doubt”\, “Jacques Brel is Alive and Well”\, “Carousel” and “Into the Woods” to name a few.  Colleen O’Leary has charmed Rabbit Run audiences with her gorgeous voice in “Nunsense”\, “Hello Dolly” and “Songs for a New World”. \nOur first two streamed cabarets\, “With Love From Rabbit Run”\, featuring Paige Heidrich\, and “Here I Am” with Emily Stack\, are still available for viewing on our YouTube channel. \nAnd best of all\, these cabarets are free of charge! \nTo view these wonderful productions\, click the following YouTube links:\n“Sondheim\, Swing and Other Things”  https://youtu.be/WeNWwlMt_aA\n“With Love From Rabbit Run” https://www.youtube.com/watch?v=-2rZAAJtYfk\n“Here I Am” https://www.youtube.com/watch?v=gFKq_Zf3s0c \nEnjoy!
URL:https://rabbitrun.org/events/here-i-am/
CATEGORIES:Concerts,Recitals
ATTACH;FMTTYPE=image/jpeg:https://rabbitrun.org/wp-content/uploads/2020/07/Cabaret-Three-Thumbnail-6.jpg
END:VEVENT
BEGIN:VEVENT
DTSTART;TZID=America/New_York:20200723T180000
DTEND;TZID=America/New_York:20200903T220000
DTSTAMP:20260422T101509
CREATED:20200714T195600Z
LAST-MODIFIED:20200902T185340Z
UID:3050-1595527200-1599170400@rabbitrun.org
SUMMARY:Evenings at the Barn
DESCRIPTION:While we are not able to produce live performances at Rabbit Run Theater this summer due to COVID-19 restrictions\, we are delighted to offer a number of LIVE concerts at the barn throughout the summer. Best of all\, these concerts are free of charge! What could be better than a lovely evening at the barn with your favorite people enjoying great music! \nProviding the music for these concerts are local favorites Madtown Jazz and The Alibis. To hear a sample of each band’s music\, click on the links below: \nhttps://www.facebook.com/MadtownJazz/videos/161865235153053/\nhttps://www.facebook.com/thealibiscleveland/videos/454455992043729/  \nJust a note\, you may recognize some members of Madtown Jazz as Jim and Erica Slike\, John Koch and John Mullen have all performed both in our orchestra pits as well as onstage at Rabbit Run. \nOne last concert has been added for Thurs.\, Sept. 10 with Paul Hagan.  Paul has been performing acoustic guitar on all different stages for many years.  His wide repertoire of music ranges from the Temptations to Train\, the Everly Brothers to Ed Sheeran and Joni Mitchel to Jason Mraz. \nThe Paul Hagan concert is from 6:00 – 7:30 p.m.; grounds are open from 5:00 – 8:00 p.m. \nSummer Live Concert Schedule\nJuly 9 – Madtown Jazz\nJuly 23 – The Alibis\nAug. 6 – Madtown Jazz\nAug. 20 – The Alibis\nSept. 10 – Paul Hagan  Added Concert! \nUtilizing state-recommended social distancing practices\, we are able to allow a maximum of 120 people to each event. Guests are welcome to\nbring their own food.* \nDue to limited capacity\, Reservations MUST BE made for these live concerts. \nPlease call the office at 440-425-5913 between noon – 3:00 pm Monday through Friday to make a table reservation. We have 20 tables available that seat six people each. All reservations are on a first-come-first-served basis. \n*These concerts are outside and not in the barn. Grounds open from 6 – 10 p.m. Concert from 6:30 – 9:30 p.m. Masks are strongly recommended to be worn when not seated at table. Hand sanitizing stations located in convenient areas throughout the grounds One person allowed in restrooms at a time.
URL:https://rabbitrun.org/events/evenings-at-the-barn/
LOCATION:Rabbit Run Theater\, 5648 West Chapel Rd\, Madion\, OH\, 44057\, United States
CATEGORIES:Concerts,Recitals
ATTACH;FMTTYPE=image/jpeg:https://rabbitrun.org/wp-content/uploads/2020/07/Madtown-Jazz-3.jpg
END:VEVENT
BEGIN:VEVENT
DTSTART;TZID=America/New_York:20200717T200000
DTEND;TZID=America/New_York:20201001T200000
DTSTAMP:20260422T101509
CREATED:20200714T194444Z
LAST-MODIFIED:20201008T141044Z
UID:3046-1595016000-1601582400@rabbitrun.org
SUMMARY:With Love From Rabbit Run
DESCRIPTION:Even though the barn doors are closed this summer\, we haven’t let that slow us down! Our live concerts on the grounds of the theater began last week with “Madtown Jazz”\, and this week marks our first streamed cabaret. \n“With Love\, from Rabbit Run:\nAn Evening of Your Favorites”\nfeaturing vocalist Paige Heidrich\,\naired Friday\, July 17 at 8:00 p.m. \nYou may remember Paige as she has appeared in numerous shows at the barn\, including “Hello Dolly”\, “Peter and the Starcatcher”\, “Carousel” and “My Fair Lady”. Her professionally trained and\, honestly\, gorgeous voice will sing your blues away! \nWith a great line up of songs from classic show tunes by Cole Porter and Richard Rodgers to old-time favorites from Nat King Cole\, Edith Piaf\, George Gershwin and more\, this intimate cabaret will be the perfect start to your weekend. \nAnd best of all–it’s free of charge! \nTo view “With Love\, from Rabbit Run”\, please click on this link: https://youtu.be/-2rZAAJtYfk  \nThis fabulous cabaret will be available for viewing throughout the summer. \nWith Love from Rabbit Run!
URL:https://rabbitrun.org/events/with-love-from-rabbit-run/
LOCATION:Virtual Event
CATEGORIES:Concerts,Recitals
ATTACH;FMTTYPE=image/jpeg:https://rabbitrun.org/wp-content/uploads/2020/07/Cabaret-One-Thumbnail.jpg
END:VEVENT
END:VCALENDAR