BEGIN:VCALENDAR
VERSION:2.0
PRODID:-//Rabbit Run Community Arts Association - ECPv6.15.11//NONSGML v1.0//EN
CALSCALE:GREGORIAN
METHOD:PUBLISH
X-ORIGINAL-URL:https://rabbitrun.org
X-WR-CALDESC:Events for Rabbit Run Community Arts Association
REFRESH-INTERVAL;VALUE=DURATION:PT1H
X-Robots-Tag:noindex
X-PUBLISHED-TTL:PT1H
BEGIN:VTIMEZONE
TZID:America/New_York
BEGIN:DAYLIGHT
TZOFFSETFROM:-0500
TZOFFSETTO:-0400
TZNAME:EDT
DTSTART:20250309T070000
END:DAYLIGHT
BEGIN:STANDARD
TZOFFSETFROM:-0400
TZOFFSETTO:-0500
TZNAME:EST
DTSTART:20251102T060000
END:STANDARD
BEGIN:DAYLIGHT
TZOFFSETFROM:-0500
TZOFFSETTO:-0400
TZNAME:EDT
DTSTART:20260308T070000
END:DAYLIGHT
BEGIN:STANDARD
TZOFFSETFROM:-0400
TZOFFSETTO:-0500
TZNAME:EST
DTSTART:20261101T060000
END:STANDARD
BEGIN:DAYLIGHT
TZOFFSETFROM:-0500
TZOFFSETTO:-0400
TZNAME:EDT
DTSTART:20270314T070000
END:DAYLIGHT
BEGIN:STANDARD
TZOFFSETFROM:-0400
TZOFFSETTO:-0500
TZNAME:EST
DTSTART:20271107T060000
END:STANDARD
END:VTIMEZONE
BEGIN:VEVENT
DTSTART;TZID=America/New_York:20260501T193000
DTEND;TZID=America/New_York:20260508T210000
DTSTAMP:20260422T114947
CREATED:20221114T152252Z
LAST-MODIFIED:20260422T144650Z
UID:4746-1777663800-1778274000@rabbitrun.org
SUMMARY:O\, Say Can You See
DESCRIPTION:Welcome in Spring with the Madison Chorale’s Spring Concert\, “O\, Say Can You See”.  Come hear some favorite patriotic melodies and many other season appropriate songs on Friday\, May 1\, at Trinity Lutheran Church in Madison.  Hearing the dulcet tones of this very talented ensemble is sure to be a real treat for the ears. \nUnder the direction of Beth Johnson\, the Madison Chorale is comprised of volunteer vocalists from Lake\, Ashtabula and Geauga counties and has performed at private and public functions for over 35 years. \nFriday\, May 1\, 2026\n7:30 p.m.  \nTrinity Lutheran Church\n6345 Chapel Rd.\, Madison   \nA free will offering will be accepted.  Open to the public. \nComplimentary refreshments will be served immediately following the concert.
URL:https://rabbitrun.org/events/sing-joy-speak-peace/
CATEGORIES:Concerts,Recitals
ATTACH;FMTTYPE=image/jpeg:https://rabbitrun.org/wp-content/uploads/2026/04/Chorale-Spring-forCC-2026.jpg
END:VEVENT
END:VCALENDAR